BEGIN:VCALENDAR
VERSION:2.0
PRODID:icalendar-ruby
CALSCALE:GREGORIAN
METHOD:PUBLISH
BEGIN:VEVENT
DTSTAMP:20260424T152659Z
UID:197-639874@afcracine.com
DTSTART;VALUE=DATE:20260622
DTEND;VALUE=DATE:20260626
CLASS:PUBLIC
CREATED:20260415T142813
DESCRIPTION:Registration Opens on May 1st at 12:01 AM 
LAST-MODIFIED:20260415T142813
LOCATION:WI DIST UPCI Campgrounds
SUMMARY:Youth Camp - Ages 12-18
URL;VALUE=URI:https://afcracine.com/events/youth-camp-ages-12-18/2026-06-22
ATTACH;FILENAME=Screenshot-2026-04-15-at-2.24.17PM.png;FMTTYPE=image/png:ht
 tps://dq5pwpg1q8ru0.cloudfront.net/2026/04/15/19/25/15/31fb6a34-9e9a-4552-
 ab45-91e3e9a3eff8/Screenshot-2026-04-15-at-2.24.17PM.png
END:VEVENT
END:VCALENDAR
