BEGIN:VCALENDAR
VERSION:2.0
PRODID:icalendar-ruby
CALSCALE:GREGORIAN
METHOD:PUBLISH
BEGIN:VEVENT
DTSTAMP:20260424T181530Z
UID:201-252427@afcracine.com
DTSTART;VALUE=DATE:20260813
DTEND;VALUE=DATE:20260815
CLASS:PUBLIC
CREATED:20251111T171423
DESCRIPTION:
LAST-MODIFIED:20251111T171423
LOCATION:WI DIST UPCI Campgrounds
SUMMARY:WI District Men's Camp
URL;VALUE=URI:https://afcracine.com/events/wi-district-mens-camp--201/2026-
 08-13
END:VEVENT
END:VCALENDAR
